BEGIN:VCALENDAR
VERSION:2.0
PRODID:-//ChamberMaster//Event Calendar 2.0//EN
METHOD:PUBLISH
X-PUBLISHED-TTL:P1H
REFRESH-INTERVAL:P1H
CALSCALE:GREGORIAN
BEGIN:VTIMEZONE
TZID:America/Halifax
BEGIN:DAYLIGHT
RRULE:FREQ=YEARLY;BYMONTH=3;BYDAY=2SU
DTSTART:20070101T000000
TZOFFSETFROM:-0400
TZOFFSETTO:-0300
TZNAME:Atlantic Daylight Time
END:DAYLIGHT
BEGIN:STANDARD
RRULE:FREQ=YEARLY;BYMONTH=11;BYDAY=1SU
DTSTART:20070101T000000
TZOFFSETFROM:-0300
TZOFFSETTO:-0400
TZNAME:Atlantic Standard Time
END:STANDARD
END:VTIMEZONE
BEGIN:VEVENT
DTSTART;TZID=America/Halifax:20260428T090000
DTEND;TZID=America/Halifax:20260428T120000
X-MICROSOFT-CDO-ALLDAYEVENT:FALSE
SUMMARY:In Person 2026 AGM
DESCRIPTION:2026 Annual General Meeting-In PersonLocation: Rodd Charlottetown\, 75 Kent Street\, CharlottetownBreakfast and Registration 8:00 am- 9:00amSession: 9:00 am - 12:00 pm
X-ALT-DESC;FMTTYPE=text/html:<!DOCTYPE html><html><head><title></title><link rel="stylesheet" href="chrome-extension://d5cf0f36-1098-4dcf-abf9-4dfe16234eb8/app/content-style.css"></head><body aria-disabled="false"><p>2026 Annual General Meeting-In Person</p><p>Location: Rodd Charlottetown\, 75 Kent Street\, Charlottetown</p><p>Breakfast and Registration 8:00 am- 9:00am</p><p>Session: 9:00 am - 12:00 pm</p></body></html>
LOCATION:75 Kent Street Charlottetown PE C1A 7K4
UID:e.3272.1424429
SEQUENCE:3
DTSTAMP:20260421T162235Z
URL:https://members.peirea.com/eventcalendar/Details/in-person-2026-agm-1684152?sourceTypeId=Hub
END:VEVENT
END:VCALENDAR
