BEGIN:VCALENDAR
VERSION:2.0
PRODID:-//ChamberMaster//Event Calendar 2.0//EN
METHOD:PUBLISH
X-PUBLISHED-TTL:P1H
REFRESH-INTERVAL:P1H
CALSCALE:GREGORIAN
BEGIN:VTIMEZONE
TZID:America/Halifax
BEGIN:DAYLIGHT
RRULE:FREQ=YEARLY;BYMONTH=3;BYDAY=2SU
DTSTART:20070101T000000
TZOFFSETFROM:-0400
TZOFFSETTO:-0300
TZNAME:Atlantic Daylight Time
END:DAYLIGHT
BEGIN:STANDARD
RRULE:FREQ=YEARLY;BYMONTH=11;BYDAY=1SU
DTSTART:20070101T000000
TZOFFSETFROM:-0300
TZOFFSETTO:-0400
TZNAME:Atlantic Standard Time
END:STANDARD
END:VTIMEZONE
BEGIN:VEVENT
DTSTART;TZID=America/Halifax:20260526T093000
DTEND;TZID=America/Halifax:20260526T113000
X-MICROSOFT-CDO-ALLDAYEVENT:FALSE
SUMMARY:2026 Paragon Connect & Mobile App Suite Webinar
DESCRIPTION:
X-ALT-DESC;FMTTYPE=text/html:
LOCATION:
UID:e.3272.1445368
SEQUENCE:3
DTSTAMP:20260421T162720Z
URL:https://members.peirea.com/eventcalendar/Details/2026-paragon-connect-mobile-app-suite-webinar-1711864?sourceTypeId=Hub
END:VEVENT
END:VCALENDAR
